BEGIN:VCALENDAR
VERSION:2.0
PRODID:-//Buckden Towers - ECPv6.15.16.1//NONSGML v1.0//EN
CALSCALE:GREGORIAN
METHOD:PUBLISH
X-WR-CALNAME:Buckden Towers
X-ORIGINAL-URL:https://buckdentowers.com
X-WR-CALDESC:Events for Buckden Towers
REFRESH-INTERVAL;VALUE=DURATION:PT1H
X-Robots-Tag:noindex
X-PUBLISHED-TTL:PT1H
BEGIN:VTIMEZONE
TZID:Europe/London
BEGIN:DAYLIGHT
TZOFFSETFROM:+0000
TZOFFSETTO:+0100
TZNAME:BST
DTSTART:20250330T010000
END:DAYLIGHT
BEGIN:STANDARD
TZOFFSETFROM:+0100
TZOFFSETTO:+0000
TZNAME:GMT
DTSTART:20251026T010000
END:STANDARD
BEGIN:DAYLIGHT
TZOFFSETFROM:+0000
TZOFFSETTO:+0100
TZNAME:BST
DTSTART:20260329T010000
END:DAYLIGHT
BEGIN:STANDARD
TZOFFSETFROM:+0100
TZOFFSETTO:+0000
TZNAME:GMT
DTSTART:20261025T010000
END:STANDARD
BEGIN:DAYLIGHT
TZOFFSETFROM:+0000
TZOFFSETTO:+0100
TZNAME:BST
DTSTART:20270328T010000
END:DAYLIGHT
BEGIN:STANDARD
TZOFFSETFROM:+0100
TZOFFSETTO:+0000
TZNAME:GMT
DTSTART:20271031T010000
END:STANDARD
END:VTIMEZONE
BEGIN:VEVENT
DTSTART;TZID=Europe/London:20260523T000000
DTEND;TZID=Europe/London:20260523T000000
DTSTAMP:20260420T092728
CREATED:20260328T112030Z
LAST-MODIFIED:20260328T112030Z
UID:10000716-1779494400-1779494400@buckdentowers.com
SUMMARY:Ronald Sloan RIP 2016
DESCRIPTION:
URL:https://buckdentowers.com/event/ronald-sloan-rip-2016/
CATEGORIES:Parish - anniversaries
END:VEVENT
BEGIN:VEVENT
DTSTART;TZID=Europe/London:20260524T000000
DTEND;TZID=Europe/London:20260524T000000
DTSTAMP:20260420T092728
CREATED:20260328T111005Z
LAST-MODIFIED:20260328T111005Z
UID:10000605-1779580800-1779580800@buckdentowers.com
SUMMARY:Mary Agnes Mackey RIP 1981
DESCRIPTION:
URL:https://buckdentowers.com/event/mary-agnes-mackey-rip-1981/
CATEGORIES:Parish - anniversaries
END:VEVENT
BEGIN:VEVENT
DTSTART;TZID=Europe/London:20260525T000000
DTEND;TZID=Europe/London:20260525T000000
DTSTAMP:20260420T092728
CREATED:20260328T110240Z
LAST-MODIFIED:20260328T112552Z
UID:10000525-1779667200-1779667200@buckdentowers.com
SUMMARY:Dorothy Sarah Ann Mary Fitzpatrick RIP 2004
DESCRIPTION:
URL:https://buckdentowers.com/event/dorothy-sarah-ann-mary-fitzpatrick-rip-2004/
CATEGORIES:Parish - anniversaries
END:VEVENT
BEGIN:VEVENT
DTSTART;TZID=Europe/London:20260526T000000
DTEND;TZID=Europe/London:20260526T000000
DTSTAMP:20260420T092728
CREATED:20260328T111943Z
LAST-MODIFIED:20260328T111943Z
UID:10000698-1779753600-1779753600@buckdentowers.com
SUMMARY:Kathleen May Rowan RIP 2000
DESCRIPTION:
URL:https://buckdentowers.com/event/kathleen-may-rowan-rip-2000/
CATEGORIES:Parish - anniversaries
END:VEVENT
BEGIN:VEVENT
DTSTART;TZID=Europe/London:20260526T000000
DTEND;TZID=Europe/London:20260526T000000
DTSTAMP:20260420T092728
CREATED:20260328T112115Z
LAST-MODIFIED:20260328T112115Z
UID:10000730-1779753600-1779753600@buckdentowers.com
SUMMARY:Mary Surkitt RIP 1971
DESCRIPTION:
URL:https://buckdentowers.com/event/mary-surkitt-rip-1971/
CATEGORIES:Parish - anniversaries
END:VEVENT
BEGIN:VEVENT
DTSTART;TZID=Europe/London:20260527T000000
DTEND;TZID=Europe/London:20260527T000000
DTSTAMP:20260420T092728
CREATED:20260328T110835Z
LAST-MODIFIED:20260328T110835Z
UID:10000575-1779840000-1779840000@buckdentowers.com
SUMMARY:Gladys Josephine Jaczyk RIP 2012
DESCRIPTION:
URL:https://buckdentowers.com/event/gladys-josephine-jaczyk-rip-2012/
CATEGORIES:Parish - anniversaries
END:VEVENT
BEGIN:VEVENT
DTSTART;TZID=Europe/London:20260528T000000
DTEND;TZID=Europe/London:20260528T000000
DTSTAMP:20260420T092728
CREATED:20260328T110919Z
LAST-MODIFIED:20260328T110919Z
UID:10000590-1779926400-1779926400@buckdentowers.com
SUMMARY:Phyllis King (Sawford) RIP 1994
DESCRIPTION:
URL:https://buckdentowers.com/event/phyllis-king-sawford-rip-1994/
CATEGORIES:Parish - anniversaries
END:VEVENT
BEGIN:VEVENT
DTSTART;TZID=Europe/London:20260528T000000
DTEND;TZID=Europe/London:20260528T000000
DTSTAMP:20260420T092728
CREATED:20260328T111005Z
LAST-MODIFIED:20260328T111005Z
UID:10000606-1779926400-1779926400@buckdentowers.com
SUMMARY:William Leonard Mackian RIP 1999
DESCRIPTION:
URL:https://buckdentowers.com/event/william-leonard-mackian-rip-1999/
CATEGORIES:Parish - anniversaries
END:VEVENT
BEGIN:VEVENT
DTSTART;TZID=Europe/London:20260528T000000
DTEND;TZID=Europe/London:20260528T000000
DTSTAMP:20260420T092728
CREATED:20260328T111838Z
LAST-MODIFIED:20260328T111838Z
UID:10000681-1779926400-1779926400@buckdentowers.com
SUMMARY:John Matthew Powell RIP 2001
DESCRIPTION:
URL:https://buckdentowers.com/event/john-matthew-powell-rip-2001/
CATEGORIES:Parish - anniversaries
END:VEVENT
BEGIN:VEVENT
DTSTART;TZID=Europe/London:20260528T000000
DTEND;TZID=Europe/London:20260528T000000
DTSTAMP:20260420T092728
CREATED:20260328T112401Z
LAST-MODIFIED:20260328T112401Z
UID:10000787-1779926400-1779926400@buckdentowers.com
SUMMARY:Ronald Wyness RIP 2024
DESCRIPTION:
URL:https://buckdentowers.com/event/ronald-wyness-rip-2024/
CATEGORIES:Parish - anniversaries
END:VEVENT
BEGIN:VEVENT
DTSTART;TZID=Europe/London:20260529T000000
DTEND;TZID=Europe/London:20260529T000000
DTSTAMP:20260420T092728
CREATED:20260328T110850Z
LAST-MODIFIED:20260328T110850Z
UID:10000582-1780012800-1780012800@buckdentowers.com
SUMMARY:Edward Joseph Kane RIP 1987
DESCRIPTION:
URL:https://buckdentowers.com/event/edward-joseph-kane-rip-1987/
CATEGORIES:Parish - anniversaries
END:VEVENT
BEGIN:VEVENT
DTSTART;TZID=Europe/London:20260529T000000
DTEND;TZID=Europe/London:20260529T000000
DTSTAMP:20260420T092728
CREATED:20260328T111005Z
LAST-MODIFIED:20260328T111005Z
UID:10000607-1780012800-1780012800@buckdentowers.com
SUMMARY:John Joseph Madine RIP 1984
DESCRIPTION:
URL:https://buckdentowers.com/event/john-joseph-madine-rip-1984/
CATEGORIES:Parish - anniversaries
END:VEVENT
BEGIN:VEVENT
DTSTART;TZID=Europe/London:20260529T000000
DTEND;TZID=Europe/London:20260529T000000
DTSTAMP:20260420T092728
CREATED:20260328T111908Z
LAST-MODIFIED:20260328T111908Z
UID:10000692-1780012800-1780012800@buckdentowers.com
SUMMARY:Leslie Ramsay RIP 2014
DESCRIPTION:
URL:https://buckdentowers.com/event/leslie-ramsay-rip-2014/
CATEGORIES:Parish - anniversaries
END:VEVENT
BEGIN:VEVENT
DTSTART;TZID=Europe/London:20260531T000000
DTEND;TZID=Europe/London:20260531T000000
DTSTAMP:20260420T092728
CREATED:20260328T105709Z
LAST-MODIFIED:20260328T112553Z
UID:10000412-1780185600-1780185600@buckdentowers.com
SUMMARY:Edwyn James Attree RIP 1981
DESCRIPTION:
URL:https://buckdentowers.com/event/edwyn-james-attree-rip-1981/
CATEGORIES:Parish - anniversaries
END:VEVENT
BEGIN:VEVENT
DTSTART;TZID=Europe/London:20260601T000000
DTEND;TZID=Europe/London:20260601T000000
DTSTAMP:20260420T092728
CREATED:20260328T105840Z
LAST-MODIFIED:20260328T112553Z
UID:10000443-1780272000-1780272000@buckdentowers.com
SUMMARY:Richard Butcher RIP 2013
DESCRIPTION:
URL:https://buckdentowers.com/event/richard-butcher-rip-2013/
CATEGORIES:Parish - anniversaries
END:VEVENT
BEGIN:VEVENT
DTSTART;TZID=Europe/London:20260601T000000
DTEND;TZID=Europe/London:20260601T000000
DTSTAMP:20260420T092728
CREATED:20260328T110139Z
LAST-MODIFIED:20260328T112553Z
UID:10000501-1780272000-1780272000@buckdentowers.com
SUMMARY:Hilda   Drane RIP 1997
DESCRIPTION:
URL:https://buckdentowers.com/event/hilda-drane-rip-1997/
CATEGORIES:Parish - anniversaries
END:VEVENT
BEGIN:VEVENT
DTSTART;TZID=Europe/London:20260604T000000
DTEND;TZID=Europe/London:20260604T000000
DTSTAMP:20260420T092728
CREATED:20260328T111050Z
LAST-MODIFIED:20260328T111050Z
UID:10000622-1780531200-1780531200@buckdentowers.com
SUMMARY:John Joseph McHugh RIP 1996
DESCRIPTION:
URL:https://buckdentowers.com/event/john-joseph-mchugh-rip-1996/
CATEGORIES:Parish - anniversaries
END:VEVENT
BEGIN:VEVENT
DTSTART;TZID=Europe/London:20260607T000000
DTEND;TZID=Europe/London:20260607T000000
DTSTAMP:20260420T092728
CREATED:20260328T105910Z
LAST-MODIFIED:20260328T112553Z
UID:10000456-1780790400-1780790400@buckdentowers.com
SUMMARY:Catherine Chant RIP 1999
DESCRIPTION:
URL:https://buckdentowers.com/event/catherine-chant-rip-1999/
CATEGORIES:Parish - anniversaries
END:VEVENT
BEGIN:VEVENT
DTSTART;TZID=Europe/London:20260611T000000
DTEND;TZID=Europe/London:20260611T000000
DTSTAMP:20260420T092728
CREATED:20260328T110920Z
LAST-MODIFIED:20260328T110920Z
UID:10000591-1781136000-1781136000@buckdentowers.com
SUMMARY:Ernst Kunz RIP 1980
DESCRIPTION:
URL:https://buckdentowers.com/event/ernst-kunz-rip-1980/
CATEGORIES:Parish - anniversaries
END:VEVENT
BEGIN:VEVENT
DTSTART;TZID=Europe/London:20260613T000000
DTEND;TZID=Europe/London:20260613T000000
DTSTAMP:20260420T092728
CREATED:20260328T112145Z
LAST-MODIFIED:20260328T112145Z
UID:10000740-1781308800-1781308800@buckdentowers.com
SUMMARY:Claire Towler RIP 2018
DESCRIPTION:
URL:https://buckdentowers.com/event/claire-towler-rip-2018/
CATEGORIES:Parish - anniversaries
END:VEVENT
BEGIN:VEVENT
DTSTART;TZID=Europe/London:20260614T000000
DTEND;TZID=Europe/London:20260614T000000
DTSTAMP:20260420T092728
CREATED:20260328T110040Z
LAST-MODIFIED:20260328T112553Z
UID:10000482-1781395200-1781395200@buckdentowers.com
SUMMARY:Breda Dalton RIP 1997
DESCRIPTION:
URL:https://buckdentowers.com/event/breda-dalton-rip-1997/
CATEGORIES:Parish - anniversaries
END:VEVENT
BEGIN:VEVENT
DTSTART;TZID=Europe/London:20260615T000000
DTEND;TZID=Europe/London:20260615T000000
DTSTAMP:20260420T092728
CREATED:20260328T111104Z
LAST-MODIFIED:20260328T111104Z
UID:10000624-1781481600-1781481600@buckdentowers.com
SUMMARY:Maureen Cecilia McMahon RIP 1974
DESCRIPTION:
URL:https://buckdentowers.com/event/maureen-cecilia-mcmahon-rip-1974/
CATEGORIES:Parish - anniversaries
END:VEVENT
BEGIN:VEVENT
DTSTART;TZID=Europe/London:20260615T000000
DTEND;TZID=Europe/London:20260615T000000
DTSTAMP:20260420T092728
CREATED:20260328T112000Z
LAST-MODIFIED:20260328T112000Z
UID:10000707-1781481600-1781481600@buckdentowers.com
SUMMARY:Lloyd Douglas Schaal RIP 1985
DESCRIPTION:
URL:https://buckdentowers.com/event/lloyd-douglas-schaal-rip-1985/
CATEGORIES:Parish - anniversaries
END:VEVENT
BEGIN:VEVENT
DTSTART;TZID=Europe/London:20260615T000000
DTEND;TZID=Europe/London:20260615T000000
DTSTAMP:20260420T092728
CREATED:20260328T112230Z
LAST-MODIFIED:20260328T112230Z
UID:10000758-1781481600-1781481600@buckdentowers.com
SUMMARY:John Francis Wallis RIP 2002
DESCRIPTION:
URL:https://buckdentowers.com/event/john-francis-wallis-rip-2002/
CATEGORIES:Parish - anniversaries
END:VEVENT
BEGIN:VEVENT
DTSTART;TZID=Europe/London:20260617T000000
DTEND;TZID=Europe/London:20260617T000000
DTSTAMP:20260420T092728
CREATED:20260328T110155Z
LAST-MODIFIED:20260328T112553Z
UID:10000507-1781654400-1781654400@buckdentowers.com
SUMMARY:Louis Rene Edel RIP 1983
DESCRIPTION:
URL:https://buckdentowers.com/event/louis-rene-edel-rip-1983/
CATEGORIES:Parish - anniversaries
END:VEVENT
BEGIN:VEVENT
DTSTART;TZID=Europe/London:20260617T000000
DTEND;TZID=Europe/London:20260617T000000
DTSTAMP:20260420T092728
CREATED:20260328T110804Z
LAST-MODIFIED:20260328T110804Z
UID:10000564-1781654400-1781654400@buckdentowers.com
SUMMARY:Patrick Francis Heron RIP 1987
DESCRIPTION:
URL:https://buckdentowers.com/event/patrick-francis-heron-rip-1987/
CATEGORIES:Parish - anniversaries
END:VEVENT
BEGIN:VEVENT
DTSTART;TZID=Europe/London:20260617T000000
DTEND;TZID=Europe/London:20260617T000000
DTSTAMP:20260420T092728
CREATED:20260328T110819Z
LAST-MODIFIED:20260328T110819Z
UID:10000568-1781654400-1781654400@buckdentowers.com
SUMMARY:Krystyna Holdway RIP 1990
DESCRIPTION:
URL:https://buckdentowers.com/event/krystyna-holdway-rip-1990/
CATEGORIES:Parish - anniversaries
END:VEVENT
BEGIN:VEVENT
DTSTART;TZID=Europe/London:20260617T000000
DTEND;TZID=Europe/London:20260617T000000
DTSTAMP:20260420T092728
CREATED:20260328T112345Z
LAST-MODIFIED:20260328T112345Z
UID:10000782-1781654400-1781654400@buckdentowers.com
SUMMARY:Anthony George Wood RIP 2024
DESCRIPTION:
URL:https://buckdentowers.com/event/anthony-george-wood-rip-2024/
CATEGORIES:Parish - anniversaries
END:VEVENT
BEGIN:VEVENT
DTSTART;TZID=Europe/London:20260619T000000
DTEND;TZID=Europe/London:20260619T000000
DTSTAMP:20260420T092728
CREATED:20260328T105725Z
LAST-MODIFIED:20260328T112554Z
UID:10000419-1781827200-1781827200@buckdentowers.com
SUMMARY:Krystyna  Barcikowski RIP 1996
DESCRIPTION:
URL:https://buckdentowers.com/event/krystyna-barcikowski-rip-1996/
CATEGORIES:Parish - anniversaries
END:VEVENT
BEGIN:VEVENT
DTSTART;TZID=Europe/London:20260619T000000
DTEND;TZID=Europe/London:20260619T000000
DTSTAMP:20260420T092728
CREATED:20260328T110255Z
LAST-MODIFIED:20260328T112554Z
UID:10000529-1781827200-1781827200@buckdentowers.com
SUMMARY:Ellen Fogg RIP 2007
DESCRIPTION:
URL:https://buckdentowers.com/event/ellen-fogg-rip-2007/
CATEGORIES:Parish - anniversaries
END:VEVENT
END:VCALENDAR