BEGIN:VCALENDAR
VERSION:2.0
PRODID:-//Buckden Towers - ECPv6.15.16.1//NONSGML v1.0//EN
CALSCALE:GREGORIAN
METHOD:PUBLISH
X-ORIGINAL-URL:https://buckdentowers.com
X-WR-CALDESC:Events for Buckden Towers
REFRESH-INTERVAL;VALUE=DURATION:PT1H
X-Robots-Tag:noindex
X-PUBLISHED-TTL:PT1H
BEGIN:VTIMEZONE
TZID:Europe/London
BEGIN:DAYLIGHT
TZOFFSETFROM:+0000
TZOFFSETTO:+0100
TZNAME:BST
DTSTART:20250330T010000
END:DAYLIGHT
BEGIN:STANDARD
TZOFFSETFROM:+0100
TZOFFSETTO:+0000
TZNAME:GMT
DTSTART:20251026T010000
END:STANDARD
BEGIN:DAYLIGHT
TZOFFSETFROM:+0000
TZOFFSETTO:+0100
TZNAME:BST
DTSTART:20260329T010000
END:DAYLIGHT
BEGIN:STANDARD
TZOFFSETFROM:+0100
TZOFFSETTO:+0000
TZNAME:GMT
DTSTART:20261025T010000
END:STANDARD
BEGIN:DAYLIGHT
TZOFFSETFROM:+0000
TZOFFSETTO:+0100
TZNAME:BST
DTSTART:20270328T010000
END:DAYLIGHT
BEGIN:STANDARD
TZOFFSETFROM:+0100
TZOFFSETTO:+0000
TZNAME:GMT
DTSTART:20271031T010000
END:STANDARD
END:VTIMEZONE
BEGIN:VEVENT
DTSTART;TZID=Europe/London:20261104T000000
DTEND;TZID=Europe/London:20261104T000000
DTSTAMP:20260420T191836
CREATED:20260328T105854Z
LAST-MODIFIED:20260328T112748Z
UID:10000447-1793750400-1793750400@buckdentowers.com
SUMMARY:Margaret Byrne RIP 2021
DESCRIPTION:
URL:https://buckdentowers.com/event/margaret-byrne-rip-2021/
CATEGORIES:Parish - anniversaries
END:VEVENT
BEGIN:VEVENT
DTSTART;TZID=Europe/London:20261104T000000
DTEND;TZID=Europe/London:20261104T000000
DTSTAMP:20260420T191836
CREATED:20260328T111004Z
LAST-MODIFIED:20260328T111004Z
UID:10000603-1793750400-1793750400@buckdentowers.com
SUMMARY:Teresa Mary Lumley RIP 1998
DESCRIPTION:
URL:https://buckdentowers.com/event/teresa-mary-lumley-rip-1998/
CATEGORIES:Parish - anniversaries
END:VEVENT
BEGIN:VEVENT
DTSTART;TZID=Europe/London:20261104T000000
DTEND;TZID=Europe/London:20261104T000000
DTSTAMP:20260420T191836
CREATED:20260328T112115Z
LAST-MODIFIED:20260328T112115Z
UID:10000732-1793750400-1793750400@buckdentowers.com
SUMMARY:Joan   Swinburn RIP 2004
DESCRIPTION:
URL:https://buckdentowers.com/event/joan-swinburn-rip-2004/
CATEGORIES:Parish - anniversaries
END:VEVENT
BEGIN:VEVENT
DTSTART;TZID=Europe/London:20261108T000000
DTEND;TZID=Europe/London:20261108T000000
DTSTAMP:20260420T191836
CREATED:20260328T110732Z
LAST-MODIFIED:20260328T110732Z
UID:10000549-1794096000-1794096000@buckdentowers.com
SUMMARY:Marguerite Guilmoto RIP 1993
DESCRIPTION:
URL:https://buckdentowers.com/event/marguerite-guilmoto-rip-1993/
CATEGORIES:Parish - anniversaries
END:VEVENT
BEGIN:VEVENT
DTSTART;TZID=Europe/London:20261108T000000
DTEND;TZID=Europe/London:20261108T000000
DTSTAMP:20260420T191836
CREATED:20260328T112015Z
LAST-MODIFIED:20260328T112015Z
UID:10000713-1794096000-1794096000@buckdentowers.com
SUMMARY:Lily Simpson RIP 1996
DESCRIPTION:
URL:https://buckdentowers.com/event/lily-simpson-rip-1996/
CATEGORIES:Parish - anniversaries
END:VEVENT
BEGIN:VEVENT
DTSTART;TZID=Europe/London:20261111T000000
DTEND;TZID=Europe/London:20261111T000000
DTSTAMP:20260420T191836
CREATED:20260328T110820Z
LAST-MODIFIED:20260328T110820Z
UID:10000572-1794355200-1794355200@buckdentowers.com
SUMMARY:Elizabeth Hustler RIP 2022
DESCRIPTION:
URL:https://buckdentowers.com/event/elizabeth-hustler-rip-2022/
CATEGORIES:Parish - anniversaries
END:VEVENT
BEGIN:VEVENT
DTSTART;TZID=Europe/London:20261112T000000
DTEND;TZID=Europe/London:20261112T000000
DTSTAMP:20260420T191836
CREATED:20260328T105740Z
LAST-MODIFIED:20260328T112748Z
UID:10000426-1794441600-1794441600@buckdentowers.com
SUMMARY:John Bennett RIP 1987
DESCRIPTION:
URL:https://buckdentowers.com/event/john-bennett-rip-1987/
CATEGORIES:Parish - anniversaries
END:VEVENT
BEGIN:VEVENT
DTSTART;TZID=Europe/London:20261112T000000
DTEND;TZID=Europe/London:20261112T000000
DTSTAMP:20260420T191836
CREATED:20260328T110733Z
LAST-MODIFIED:20260328T110733Z
UID:10000550-1794441600-1794441600@buckdentowers.com
SUMMARY:Dorothy Gurney RIP 2006
DESCRIPTION:
URL:https://buckdentowers.com/event/dorothy-gurney-rip-2006/
CATEGORIES:Parish - anniversaries
END:VEVENT
BEGIN:VEVENT
DTSTART;TZID=Europe/London:20261113T000000
DTEND;TZID=Europe/London:20261113T000000
DTSTAMP:20260420T191836
CREATED:20260328T110025Z
LAST-MODIFIED:20260328T112748Z
UID:10000477-1794528000-1794528000@buckdentowers.com
SUMMARY:Donald Critchers RIP 2009
DESCRIPTION:
URL:https://buckdentowers.com/event/donald-critchers-rip-2009/
CATEGORIES:Parish - anniversaries
END:VEVENT
BEGIN:VEVENT
DTSTART;TZID=Europe/London:20261115T000000
DTEND;TZID=Europe/London:20261115T000000
DTSTAMP:20260420T191836
CREATED:20260328T110905Z
LAST-MODIFIED:20260328T110905Z
UID:10000586-1794700800-1794700800@buckdentowers.com
SUMMARY:Doris Maud Irene Kennedy RIP 2002
DESCRIPTION:
URL:https://buckdentowers.com/event/doris-maud-irene-kennedy-rip-2002/
CATEGORIES:Parish - anniversaries
END:VEVENT
BEGIN:VEVENT
DTSTART;TZID=Europe/London:20261115T000000
DTEND;TZID=Europe/London:20261115T000000
DTSTAMP:20260420T191836
CREATED:20260328T111220Z
LAST-MODIFIED:20260328T111220Z
UID:10000651-1794700800-1794700800@buckdentowers.com
SUMMARY:Audrey Betty Murkett RIP 2005
DESCRIPTION:
URL:https://buckdentowers.com/event/audrey-betty-murkett-rip-2005/
CATEGORIES:Parish - anniversaries
END:VEVENT
BEGIN:VEVENT
DTSTART;TZID=Europe/London:20261116T000000
DTEND;TZID=Europe/London:20261116T000000
DTSTAMP:20260420T191836
CREATED:20260328T111049Z
LAST-MODIFIED:20260328T111049Z
UID:10000619-1794787200-1794787200@buckdentowers.com
SUMMARY:Elizabeth Marie McDonnell RIP 2016
DESCRIPTION:
URL:https://buckdentowers.com/event/elizabeth-marie-mcdonnell-rip-2016/
CATEGORIES:Parish - anniversaries
END:VEVENT
BEGIN:VEVENT
DTSTART;TZID=Europe/London:20261116T000000
DTEND;TZID=Europe/London:20261116T000000
DTSTAMP:20260420T191836
CREATED:20260328T111204Z
LAST-MODIFIED:20260328T111204Z
UID:10000645-1794787200-1794787200@buckdentowers.com
SUMMARY:Philip Mount RIP 1992
DESCRIPTION:
URL:https://buckdentowers.com/event/philip-mount-rip-1992/
CATEGORIES:Parish - anniversaries
END:VEVENT
BEGIN:VEVENT
DTSTART;TZID=Europe/London:20261119T000000
DTEND;TZID=Europe/London:20261119T000000
DTSTAMP:20260420T191836
CREATED:20260328T105825Z
LAST-MODIFIED:20260328T112748Z
UID:10000441-1795046400-1795046400@buckdentowers.com
SUMMARY:Ralph Burrows RIP 2025
DESCRIPTION:
URL:https://buckdentowers.com/event/ralph-burrows-rip-2025/
CATEGORIES:Parish - anniversaries
END:VEVENT
BEGIN:VEVENT
DTSTART;TZID=Europe/London:20261119T000000
DTEND;TZID=Europe/London:20261119T000000
DTSTAMP:20260420T191836
CREATED:20260328T111320Z
LAST-MODIFIED:20260328T111320Z
UID:10000671-1795046400-1795046400@buckdentowers.com
SUMMARY:Fr Patrick (Paddy) O'Rouke CMF RIP 2010
DESCRIPTION:
URL:https://buckdentowers.com/event/fr-patrick-paddy-orouke-cmf-rip-2010/
CATEGORIES:Parish - anniversaries
END:VEVENT
BEGIN:VEVENT
DTSTART;TZID=Europe/London:20261121T000000
DTEND;TZID=Europe/London:20261121T000000
DTSTAMP:20260420T191836
CREATED:20260328T112216Z
LAST-MODIFIED:20260328T112216Z
UID:10000754-1795219200-1795219200@buckdentowers.com
SUMMARY:Masie Verrecchia RIP 1993
DESCRIPTION:
URL:https://buckdentowers.com/event/masie-verrecchia-rip-1993/
CATEGORIES:Parish - anniversaries
END:VEVENT
BEGIN:VEVENT
DTSTART;TZID=Europe/London:20261122T000000
DTEND;TZID=Europe/London:20261122T000000
DTSTAMP:20260420T191836
CREATED:20260328T111135Z
LAST-MODIFIED:20260328T111135Z
UID:10000635-1795305600-1795305600@buckdentowers.com
SUMMARY:Patrick Albert Moloney RIP 1981
DESCRIPTION:
URL:https://buckdentowers.com/event/patrick-albert-moloney-rip-1981/
CATEGORIES:Parish - anniversaries
END:VEVENT
BEGIN:VEVENT
DTSTART;TZID=Europe/London:20261123T000000
DTEND;TZID=Europe/London:20261123T000000
DTSTAMP:20260420T191836
CREATED:20260328T105653Z
LAST-MODIFIED:20260328T112748Z
UID:10000406-1795392000-1795392000@buckdentowers.com
SUMMARY:Teresa Adlard RIP 2017
DESCRIPTION:
URL:https://buckdentowers.com/event/teresa-adlard-rip-2017/
CATEGORIES:Parish - anniversaries
END:VEVENT
BEGIN:VEVENT
DTSTART;TZID=Europe/London:20261125T000000
DTEND;TZID=Europe/London:20261125T000000
DTSTAMP:20260420T191836
CREATED:20260328T105955Z
LAST-MODIFIED:20260328T112749Z
UID:10000469-1795564800-1795564800@buckdentowers.com
SUMMARY:Gladys Irene Conby RIP 2015
DESCRIPTION:
URL:https://buckdentowers.com/event/gladys-irene-conby-rip-2015/
CATEGORIES:Parish - anniversaries
END:VEVENT
BEGIN:VEVENT
DTSTART;TZID=Europe/London:20261126T000000
DTEND;TZID=Europe/London:20261126T000000
DTSTAMP:20260420T191836
CREATED:20260328T105755Z
LAST-MODIFIED:20260328T112749Z
UID:10000428-1795651200-1795651200@buckdentowers.com
SUMMARY:Fergus Iain Stewart Boyle RIP 1980
DESCRIPTION:
URL:https://buckdentowers.com/event/fergus-iain-stewart-boyle-rip-1980/
CATEGORIES:Parish - anniversaries
END:VEVENT
BEGIN:VEVENT
DTSTART;TZID=Europe/London:20261126T000000
DTEND;TZID=Europe/London:20261126T000000
DTSTAMP:20260420T191836
CREATED:20260328T110340Z
LAST-MODIFIED:20260328T112749Z
UID:10000542-1795651200-1795651200@buckdentowers.com
SUMMARY:Colleen Elizabeth Gooch RIP 2002
DESCRIPTION:
URL:https://buckdentowers.com/event/colleen-elizabeth-gooch-rip-2002/
CATEGORIES:Parish - anniversaries
END:VEVENT
BEGIN:VEVENT
DTSTART;TZID=Europe/London:20261127T000000
DTEND;TZID=Europe/London:20261127T000000
DTSTAMP:20260420T191836
CREATED:20260328T105955Z
LAST-MODIFIED:20260328T112749Z
UID:10000470-1795737600-1795737600@buckdentowers.com
SUMMARY:Patrick Conway RIP 2013
DESCRIPTION:
URL:https://buckdentowers.com/event/patrick-conway-rip-2013/
CATEGORIES:Parish - anniversaries
END:VEVENT
BEGIN:VEVENT
DTSTART;TZID=Europe/London:20261128T000000
DTEND;TZID=Europe/London:20261128T000000
DTSTAMP:20260420T191836
CREATED:20260328T105855Z
LAST-MODIFIED:20260328T112749Z
UID:10000450-1795824000-1795824000@buckdentowers.com
SUMMARY:Judith (Judy) Campbell Figgures RIP 2017
DESCRIPTION:
URL:https://buckdentowers.com/event/judith-judy-campbell-figgures-rip-2017/
CATEGORIES:Parish - anniversaries
END:VEVENT
BEGIN:VEVENT
DTSTART;TZID=Europe/London:20261128T000000
DTEND;TZID=Europe/London:20261128T000000
DTSTAMP:20260420T191836
CREATED:20260328T111119Z
LAST-MODIFIED:20260328T111119Z
UID:10000629-1795824000-1795824000@buckdentowers.com
SUMMARY:Joan Miles RIP 2019
DESCRIPTION:
URL:https://buckdentowers.com/event/joan-miles-rip-2019/
CATEGORIES:Parish - anniversaries
END:VEVENT
BEGIN:VEVENT
DTSTART;TZID=Europe/London:20261128T000000
DTEND;TZID=Europe/London:20261128T000000
DTSTAMP:20260420T191836
CREATED:20260328T111135Z
LAST-MODIFIED:20260328T111135Z
UID:10000636-1795824000-1795824000@buckdentowers.com
SUMMARY:Eileen Monaghan RIP 1999
DESCRIPTION:
URL:https://buckdentowers.com/event/eileen-monaghan-rip-1999/
CATEGORIES:Parish - anniversaries
END:VEVENT
BEGIN:VEVENT
DTSTART;TZID=Europe/London:20261128T000000
DTEND;TZID=Europe/London:20261128T000000
DTSTAMP:20260420T191836
CREATED:20260328T112100Z
LAST-MODIFIED:20260328T112100Z
UID:10000727-1795824000-1795824000@buckdentowers.com
SUMMARY:Ellen Harriet Stratton RIP 1970
DESCRIPTION:
URL:https://buckdentowers.com/event/ellen-harriet-stratton-rip-1970/
CATEGORIES:Parish - anniversaries
END:VEVENT
END:VCALENDAR